View In:
ArcGIS JavaScript
ArcGIS Online Map Viewer
ArcGIS Earth
ArcGIS Pro
Service Description: Il s'agit d'un plan établi à l'échelle du 1|5000e (soit 1 cm = 50 mètres), qui diviser le territoire communal en masses circonscrites par des limites naturelles : tous les terrains cultivés de la même manière et portant des récoltes identiques (terres labourables, vignes, etc.) sont réunis en une seule et même masse puis portés au plan. A l'intérieur de chaque agglomérat, où l'on ne tient pas compte du nombre de propriétaires de parcelles, ceux-ci déclarent la superficie des fonds qu'ils détiennent. L'administration, après avoir tenté de contrôler ces déclarations, reporte la différence entre la somme des contenances déclarées et le résultat de l'arpentage sur toutes les contenances fournies, si bien que le propriétaire dont la déclaration est juste se trouve lésé par les fausses indications de ses voisins. Cest plan ont été photographier aux archives nationnal avant d'être assemble et recalé par nos soins.
Map Name: Plan par masse de cultures (1803-1805)
Legend
All Layers and Tables
Dynamic Legend
Dynamic All Layers
Layers:
Description: Il s'agit d'un plan établi à l'échelle du 1|5000e (soit 1 cm = 50 mètres), qui diviser le territoire communal en masses circonscrites par des limites naturelles : tous les terrains cultivés de la même manière et portant des récoltes identiques (terres labourables, vignes, etc.) sont réunis en une seule et même masse puis portés au plan. A l'intérieur de chaque agglomérat, où l'on ne tient pas compte du nombre de propriétaires de parcelles, ceux-ci déclarent la superficie des fonds qu'ils détiennent. L'administration, après avoir tenté de contrôler ces déclarations, reporte la différence entre la somme des contenances déclarées et le résultat de l'arpentage sur toutes les contenances fournies, si bien que le propriétaire dont la déclaration est juste se trouve lésé par les fausses indications de ses voisins. Cest plan ont été photographier aux archives nationnal avant d'être assemble et recalé par nos soins.
Service Item Id: a649bb419953405ca3ebe7cb1cf8f992
Copyright Text: CD01
Spatial Reference:
102100
(3857)
LatestVCSWkid(0)
Single Fused Map Cache: true
Tile Info:
- Height: 256.0
- Width: 256.0
- DPI: 96.0
-
Levels of Detail: 24
-
Level ID: 1
[ Start Tile, End Tile ]
- Resolution: 78271.5169639999
- Scale: 2.95828763795777E8
-
Level ID: 2
[ Start Tile, End Tile ]
- Resolution: 39135.7584820001
- Scale: 1.47914381897889E8
-
Level ID: 3
[ Start Tile, End Tile ]
- Resolution: 19567.8792409999
- Scale: 7.3957190948944E7
-
Level ID: 4
[ Start Tile, End Tile ]
- Resolution: 9783.93962049996
- Scale: 3.6978595474472E7
-
Level ID: 5
[ Start Tile, End Tile ]
- Resolution: 4891.96981024998
- Scale: 1.8489297737236E7
- Format: Mixed
- Compression Quality: 75.0
- Origin: X: -2.0037508342787E7
Y: 2.0037508342787E7
- Spatial Reference: 102100
(3857)
LatestVCSWkid(0)
Storage Info:
- Storage Format: esriMapCacheStorageModeCompactV2
- Packet Size: 128
Initial Extent:
XMin: 496696.03102176014
YMin: 5730613.863595401
XMax: 692785.322787794
YMax: 5878022.967464486
Spatial Reference: 102100
(0)
LatestVCSWkid(0)
Full Extent:
XMin: 531242.7054036777
YMin: 5747287.838440534
XMax: 649700.4060775714
YMax: 5861513.462738132
Spatial Reference: 102100
(0)
LatestVCSWkid(0)
Units: esriMeters
Supported Image Format Types: PNG32,PNG24,PNG,JPG,DIB,TIFF,EMF,PS,PDF,GIF,SVG,SVGZ,BMP
Document Info:
Title: Plan par masse de culture
Author:
Comments: Il s'agit d'un plan établi à l'échelle du 1|5000e (soit 1 cm = 50 mètres), qui diviser le territoire communal en masses circonscrites par des limites naturelles : tous les terrains cultivés de la même manière et portant des récoltes identiques (terres labourables, vignes, etc.) sont réunis en une seule et même masse puis portés au plan. A l'intérieur de chaque agglomérat, où l'on ne tient pas compte du nombre de propriétaires de parcelles, ceux-ci déclarent la superficie des fonds qu'ils détiennent. L'administration, après avoir tenté de contrôler ces déclarations, reporte la différence entre la somme des contenances déclarées et le résultat de l'arpentage sur toutes les contenances fournies, si bien que le propriétaire dont la déclaration est juste se trouve lésé par les fausses indications de ses voisins. Cest plan ont été photographier aux archives nationnal avant d'être assemble et recalé par nos soins.
Subject: Plan par masse de culture disponible sur le territoire du département de l'Ain.Plans réalisés entre l'an 11 et l'an 15 du calandrier révolutionnaire soit 1803-1805.
Category:
Keywords: cadastre,ain,histoire
AntialiasingMode: Fast
TextAntialiasingMode: Force
Supports Dynamic Layers: true
MaxRecordCount: 2000
MaxImageHeight: 4096
MaxImageWidth: 4096
Supported Query Formats: JSON, geoJSON, PBF
Supports Query Data Elements: true
Min Scale: 9244648.868618
Max Scale: 2256.994353
Min LOD: 6
Max LOD: 18
Supports Datum Transformation: true
Child Resources:
Info
Dynamic Layer
Supported Operations:
Export Map
QueryLegends
QueryDomains
Find
Return Updates