View In:
ArcGIS JavaScript
ArcGIS Online Map Viewer
ArcGIS Earth
ArcGIS Pro
Service Description: <DIV STYLE="text-align:Left;font-size:12pt"><P><SPAN>flux</SPAN><SPAN> historique</SPAN><SPAN> non </SPAN><SPAN>présent dans </SPAN><SPAN>le flux WMTS de l'IGN</SPAN></P><P><SPAN /><SPAN>https://wxs.ign.fr/orthohisto/geoportail/wmts?</SPAN></P></DIV>
Map Name: Ortho_1990
Legend
All Layers and Tables
Dynamic Legend
Dynamic All Layers
Layers:
Description: <DIV STYLE="text-align:Left;font-size:12pt"><P><SPAN>flux</SPAN><SPAN> historique</SPAN><SPAN> non </SPAN><SPAN>présent dans </SPAN><SPAN>le flux WMTS de l'IGN</SPAN></P><P><SPAN /><SPAN>https://wxs.ign.fr/orthohisto/geoportail/wmts?</SPAN></P></DIV>
Service Item Id: 205834befef04e5790cb05f579f57ef1
Copyright Text: IGN - CD01
Spatial Reference:
102100
(3857)
LatestVCSWkid(0)
Single Fused Map Cache: true
Tile Info:
- Height: 256.0
- Width: 256.0
- DPI: 96.0
-
Levels of Detail: 24
-
Level ID: 1
[ Start Tile, End Tile ]
- Resolution: 78271.5169639999
- Scale: 2.95828763795777E8
-
Level ID: 2
[ Start Tile, End Tile ]
- Resolution: 39135.7584820001
- Scale: 1.47914381897889E8
-
Level ID: 3
[ Start Tile, End Tile ]
- Resolution: 19567.8792409999
- Scale: 7.3957190948944E7
-
Level ID: 4
[ Start Tile, End Tile ]
- Resolution: 9783.93962049996
- Scale: 3.6978595474472E7
-
Level ID: 5
[ Start Tile, End Tile ]
- Resolution: 4891.96981024998
- Scale: 1.8489297737236E7
- Format: Mixed
- Compression Quality: 70.0
- Origin: X: -2.0037508342787E7
Y: 2.0037508342787E7
- Spatial Reference: 102100
(3857)
LatestVCSWkid(0)
Storage Info:
- Storage Format: esriMapCacheStorageModeCompactV2
- Packet Size: 128
Initial Extent:
XMin: 497064.7287750831
YMin: 5706874.378078199
XMax: 715741.8995745495
YMax: 5873912.149102538
Spatial Reference: 102100
(0)
LatestVCSWkid(0)
Full Extent:
XMin: 523973.0710526354
YMin: 5715203.041272854
XMax: 688238.9206840025
YMax: 5865993.949063407
Spatial Reference: 102100
(0)
LatestVCSWkid(0)
Units: esriMeters
Supported Image Format Types: PNG32,PNG24,PNG,JPG,DIB,TIFF,EMF,PS,PDF,GIF,SVG,SVGZ,BMP
Document Info:
Title: Ortho_1990
Author:
Comments: <DIV STYLE="text-align:Left;font-size:12pt"><P><SPAN>flux</SPAN><SPAN> historique</SPAN><SPAN> non </SPAN><SPAN>présent dans </SPAN><SPAN>le flux WMTS de l'IGN</SPAN></P><P><SPAN /><SPAN>https://wxs.ign.fr/orthohisto/geoportail/wmts?</SPAN></P></DIV>
Subject: ortho photo IGN 1990 sur le territoire du département de l'Ain
Category:
Keywords: ortho,IGN,fond,fond de plan,1990
AntialiasingMode: Fast
TextAntialiasingMode: Force
Supports Dynamic Layers: true
MaxRecordCount: 2000
MaxImageHeight: 4096
MaxImageWidth: 4096
Supported Query Formats: JSON, geoJSON, PBF
Supports Query Data Elements: true
Min Scale: 9244648.868618
Max Scale: 1128.497176
Min LOD: 6
Max LOD: 19
Supports Datum Transformation: true
Child Resources:
Info
Dynamic Layer
Supported Operations:
Export Map
Identify
QueryLegends
QueryDomains
Find
Return Updates