View In:
ArcGIS JavaScript
ArcGIS Online Map Viewer
ArcGIS Earth
ArcGIS Pro
Service Description: <DIV STYLE="text-align:Left;font-size:12pt"><P><SPAN>La BD ORTHO</SPAN><SPAN> </SPAN><SPAN>se compose d'images numériques (sans habillage ni surcharge) et d'indications de géoréférencement. Le contenu informationnel permet localement une utilisation jusqu'au 1 : 1000 pour mettre en valeur le territoire, enrichir la visualisation des données et des projets.</SPAN><SPAN> </SPAN><SPAN>C'est mosaïques numériques orthophotographies couleuirrectifiées dans la projection adaptée au territoire couvert.</SPAN></P><P><SPAN /></P></DIV>
Map Name: Ortho_2012
Legend
All Layers and Tables
Dynamic Legend
Dynamic All Layers
Layers:
Description: La BD ORTHO se compose d'images numériques (sans habillage ni surcharge) et d'indications de géoréférencement. Le contenu informationnel permet localement une utilisation jusqu'au 1 : 1000 pour mettre en valeur le territoire, enrichir la visualisation des données et des projets. C'est mosaïques numériques orthophotographies couleuirrectifiées dans la projection adaptée au territoire couvert.
Service Item Id: 803245a1a2f047cc89b865e448db6e03
Copyright Text: IGN
Spatial Reference:
102100
(3857)
LatestVCSWkid(0)
Single Fused Map Cache: true
Tile Info:
- Height: 256.0
- Width: 256.0
- DPI: 96.0
-
Levels of Detail: 24
-
Level ID: 1
[ Start Tile, End Tile ]
- Resolution: 78271.5169639999
- Scale: 2.95828763795777E8
-
Level ID: 2
[ Start Tile, End Tile ]
- Resolution: 39135.7584820001
- Scale: 1.47914381897889E8
-
Level ID: 3
[ Start Tile, End Tile ]
- Resolution: 19567.8792409999
- Scale: 7.3957190948944E7
-
Level ID: 4
[ Start Tile, End Tile ]
- Resolution: 9783.93962049996
- Scale: 3.6978595474472E7
-
Level ID: 5
[ Start Tile, End Tile ]
- Resolution: 4891.96981024998
- Scale: 1.8489297737236E7
- Format: Mixed
- Compression Quality: 70.0
- Origin: X: -2.0037508342787E7
Y: 2.0037508342787E7
- Spatial Reference: 102100
(3857)
LatestVCSWkid(0)
Storage Info:
- Storage Format: esriMapCacheStorageModeCompactV2
- Packet Size: 128
Initial Extent:
XMin: 513608.96213707613
YMin: 5709314.235317618
XMax: 692198.4548613243
YMax: 5866227.197496492
Spatial Reference: 102100
(0)
LatestVCSWkid(0)
Full Extent:
XMin: 519567.66387690365
YMin: 5709422.597625805
XMax: 689689.3081319132
YMax: 5866088.926015393
Spatial Reference: 102100
(0)
LatestVCSWkid(0)
Units: esriMeters
Supported Image Format Types: PNG32,PNG24,PNG,JPG,DIB,TIFF,EMF,PS,PDF,GIF,SVG,SVGZ,BMP
Document Info:
Title: Ortho 2012
Author:
Comments: La BD ORTHO se compose d'images numériques (sans habillage ni surcharge) et d'indications de géoréférencement. Le contenu informationnel permet localement une utilisation jusqu'au 1 : 1000 pour mettre en valeur le territoire, enrichir la visualisation des données et des projets. C'est mosaïques numériques orthophotographies couleuirrectifiées dans la projection adaptée au territoire couvert.
Subject: Fond ortho photo 2012 issu de la campagne numérique d'été, globale sur le département de l'Ain.
Category:
Keywords: IGN,fond,fond de carte,Ortho,Ortho-imagerie,2012
AntialiasingMode: Fast
TextAntialiasingMode: Force
Supports Dynamic Layers: true
MaxRecordCount: 2000
MaxImageHeight: 4096
MaxImageWidth: 4096
Supported Query Formats: JSON, geoJSON, PBF
Supports Query Data Elements: true
Min Scale: 9244648.868618
Max Scale: 1128.497176
Min LOD: 6
Max LOD: 19
Supports Datum Transformation: true
Child Resources:
Info
Dynamic Layer
Supported Operations:
Export Map
Identify
QueryLegends
QueryDomains
Find
Return Updates