View In:
ArcGIS JavaScript
ArcGIS Online Map Viewer
ArcGIS Earth
ArcGIS Pro
Service Description: <DIV STYLE="text-align:Left;font-size:12pt"><DIV><P><SPAN>cadastre napoléonnien de l'Ain </SPAN><SPAN>TA (jusqu'au 1/5000) puis </SPAN><SPAN>feuilles assemblées</SPAN><SPAN> (toute les communes ne sont pas encore disponibles)</SPAN></P></DIV></DIV>
Map Name: cada_napo
Legend
All Layers and Tables
Dynamic Legend
Dynamic All Layers
Layers:
Description: cadastre napoléonnien de l'Ain TA (jusqu'au 1/5000) puis feuilles assemblées (toute les communes ne sont pas encore disponibles)
Service Item Id: 1f8e0612b27b4b6384c6be9fd3fbd7fa
Copyright Text: CD01
Spatial Reference:
102100
(3857)
LatestVCSWkid(0)
Single Fused Map Cache: true
Tile Info:
- Height: 256.0
- Width: 256.0
- DPI: 96.0
-
Levels of Detail: 24
-
Level ID: 1
[ Start Tile, End Tile ]
- Resolution: 78271.5169639999
- Scale: 2.95828763795777E8
-
Level ID: 2
[ Start Tile, End Tile ]
- Resolution: 39135.7584820001
- Scale: 1.47914381897889E8
-
Level ID: 3
[ Start Tile, End Tile ]
- Resolution: 19567.8792409999
- Scale: 7.3957190948944E7
-
Level ID: 4
[ Start Tile, End Tile ]
- Resolution: 9783.93962049996
- Scale: 3.6978595474472E7
-
Level ID: 5
[ Start Tile, End Tile ]
- Resolution: 4891.96981024998
- Scale: 1.8489297737236E7
- Format: MIXED
- Compression Quality: 75.0
- Origin: X: -2.0037508342787E7
Y: 2.0037508342787E7
- Spatial Reference: 102100
(3857)
LatestVCSWkid(0)
Storage Info:
- Storage Format: esriMapCacheStorageModeCompactV2
- Packet Size: 128
Initial Extent:
XMin: 510526.6723876556
YMin: 5714966.8494414855
XMax: 688721.1570654248
YMax: 5868252.830029167
Spatial Reference: 102100
(0)
LatestVCSWkid(0)
Full Extent:
XMin: 516688.20453118643
YMin: 5716293.234149939
XMax: 688218.4212154875
YMax: 5876093.8775001615
Spatial Reference: 102100
(0)
LatestVCSWkid(0)
Units: esriMeters
Supported Image Format Types: PNG32,PNG24,PNG,JPG,DIB,TIFF,EMF,PS,PDF,GIF,SVG,SVGZ,BMP
Document Info:
Title: cadastre napoléonien de l'Ain
Author:
Comments: cadastre napoléonnien de l'Ain TA (jusqu'au 1/5000) puis feuilles assemblées (toute les communes ne sont pas encore disponibles)
Subject: cadastre napoléonien de l'Ain
Category:
Keywords: cadastre,ain,historique,napoléonien
AntialiasingMode: Fast
TextAntialiasingMode: Force
Supports Dynamic Layers: true
MaxRecordCount: 2000
MaxImageHeight: 4096
MaxImageWidth: 4096
Supported Query Formats: JSON, geoJSON, PBF
Supports Query Data Elements: true
Min Scale: 4622324.434309
Max Scale: 564.248588
Supports Datum Transformation: true
Child Resources:
Info
Dynamic Layer
Supported Operations:
Export Map
Identify
QueryLegends
QueryDomains
Find
Return Updates