View In:
ArcGIS JavaScript
ArcGIS Online Map Viewer
ArcGIS Earth
ArcGIS Pro
Service Description: <div style='text-align:Left;font-size:12pt'><p><span>fond personnalisé CD01 </span><span>utilisant les donnée de la BD carto, de la Bd Topo, du Sir et d'autre source CD01.</span></p></div>
Map Name: fond atlas CD01
Legend
All Layers and Tables
Dynamic Legend
Dynamic All Layers
Layers:
Description: fond personnalisé CD01 utilisant les donnée de la BD carto, de la Bd Topo, du Sir et d'autre source CD01.
Service Item Id: c4501d90030343eba222af483c05927d
Copyright Text: CD01
Spatial Reference:
102100
(3857)
LatestVCSWkid(0)
Single Fused Map Cache: true
Tile Info:
- Height: 256.0
- Width: 256.0
- DPI: 96.0
-
Levels of Detail: 19
-
Level ID: 1
[ Start Tile, End Tile ]
- Resolution: 78271.5169639999
- Scale: 2.95828763795777E8
-
Level ID: 2
[ Start Tile, End Tile ]
- Resolution: 39135.7584820001
- Scale: 1.47914381897889E8
-
Level ID: 3
[ Start Tile, End Tile ]
- Resolution: 19567.8792409999
- Scale: 7.3957190948944E7
-
Level ID: 4
[ Start Tile, End Tile ]
- Resolution: 9783.93962049996
- Scale: 3.6978595474472E7
-
Level ID: 5
[ Start Tile, End Tile ]
- Resolution: 4891.96981024998
- Scale: 1.8489297737236E7
- Format: Mixed
- Compression Quality: 75.0
- Origin: X: -2.0037508342787E7
Y: 2.0037508342787E7
- Spatial Reference: 102100
(3857)
LatestVCSWkid(0)
Storage Info:
- Storage Format: esriMapCacheStorageModeCompactV2
- Packet Size: 128
Initial Extent:
XMin: 563193.2631986679
YMin: 5790986.976603216
XMax: 598379.8517990471
YMax: 5819918.664252783
Spatial Reference: 102100
(0)
LatestVCSWkid(0)
Full Extent:
XMin: 508730.07292526035
YMin: 5704573.062831127
XMax: 697973.2072738254
YMax: 5874683.50788881
Spatial Reference: 102100
(0)
LatestVCSWkid(0)
Units: esriMeters
Supported Image Format Types: PNG32,PNG24,PNG,JPG,DIB,TIFF,EMF,PS,PDF,GIF,SVG,SVGZ,BMP
Document Info:
Title: fond atlas CD01
Author:
Comments: fond personnalisé CD01 utilisant les donnée de la BD carto, de la Bd Topo, du Sir et d'autre source CD01.
Subject: fond personnalisé CD01
Category:
Keywords: fond
AntialiasingMode: Fast
TextAntialiasingMode: Force
Supports Dynamic Layers: true
MaxRecordCount: 2000
MaxImageHeight: 4096
MaxImageWidth: 4096
Supported Query Formats: JSON, geoJSON, PBF
Supports Query Data Elements: true
Min Scale: 9244648.868618
Max Scale: 2256.994353
Min LOD: 6
Max LOD: 18
Supports Datum Transformation: true
Child Resources:
Info
Dynamic Layer
Supported Operations:
Export Map
Identify
QueryLegends
QueryDomains
Find
Return Updates