View In:
ArcGIS JavaScript
ArcGIS Online Map Viewer
ArcGIS Earth
ArcGIS Pro
Service Description: Occupation du sol du département de l'Ain, réalisée dans le cadre du projet de cartographie des continuités écologiques du département menée par le Conseil Départemental de l'Ain (CD01) en collaboration avec le Conservatoire d'espaces naturels Rhône-Alpes.Livraison mars 2017
Map Name: externe_occup_sol_ain
Legend
All Layers and Tables
Dynamic Legend
Dynamic All Layers
Layers:
Description: Occupation du sol du département de l'Ain, réalisée dans le cadre du projet de cartographie des continuités écologiques du département menée par le Conseil Départemental de l'Ain (CD01) en collaboration avec le Conservatoire d'espaces naturels Rhône-Alpes.Livraison mars 2017
Service Item Id: c6c6b3c35e364b3e893e25ef10b35a8d
Copyright Text: CEN RA & CD01 2017
Spatial Reference:
102100
(3857)
LatestVCSWkid(0)
Single Fused Map Cache: true
Tile Info:
- Height: 256.0
- Width: 256.0
- DPI: 96.0
-
Levels of Detail: 24
-
Level ID: 1
[ Start Tile, End Tile ]
- Resolution: 78271.5169639999
- Scale: 2.95828763795777E8
-
Level ID: 2
[ Start Tile, End Tile ]
- Resolution: 39135.7584820001
- Scale: 1.47914381897889E8
-
Level ID: 3
[ Start Tile, End Tile ]
- Resolution: 19567.8792409999
- Scale: 7.3957190948944E7
-
Level ID: 4
[ Start Tile, End Tile ]
- Resolution: 9783.93962049996
- Scale: 3.6978595474472E7
-
Level ID: 5
[ Start Tile, End Tile ]
- Resolution: 4891.96981024998
- Scale: 1.8489297737236E7
- Format: MIXED
- Compression Quality: 75.0
- Origin: X: -2.0037508342787E7
Y: 2.0037508342787E7
- Spatial Reference: 102100
(3857)
LatestVCSWkid(0)
Storage Info:
- Storage Format: esriMapCacheStorageModeCompactV2
- Packet Size: 128
Initial Extent:
XMin: 474104.6796054893
YMin: 5712475.775999839
XMax: 745709.2001708731
YMax: 5868658.494761376
Spatial Reference: 102100
(0)
LatestVCSWkid(0)
Full Extent:
XMin: 524916.321216832
YMin: 5715673.804466424
XMax: 694099.4503570748
YMax: 5866648.585637483
Spatial Reference: 102100
(0)
LatestVCSWkid(0)
Units: esriMeters
Supported Image Format Types: PNG32,PNG24,PNG,JPG,DIB,TIFF,EMF,PS,PDF,GIF,SVG,SVGZ,BMP
Document Info:
Title: Occup sol Ain
Author:
Comments: Occupation du sol du département de l'Ain, réalisée dans le cadre du projet de cartographie des continuités écologiques du département menée par le Conseil Départemental de l'Ain (CD01) en collaboration avec le Conservatoire d'espaces naturels Rhône-Alpes.Livraison mars 2017
Subject: Occupation au 1/25 000 du sol du département de l'Ain
Category:
Keywords: occupation du sol,ain
AntialiasingMode: Fast
TextAntialiasingMode: Force
Supports Dynamic Layers: true
MaxRecordCount: 2000
MaxImageHeight: 4096
MaxImageWidth: 4096
Supported Query Formats: JSON, geoJSON, PBF
Supports Query Data Elements: true
Min Scale: 4622324.434309
Max Scale: 4513.988705
Min LOD: 7
Max LOD: 17
Supports Datum Transformation: true
Child Resources:
Info
Dynamic Layer
Supported Operations:
Export Map
Identify
QueryLegends
QueryDomains
Find
Return Updates